BEGIN:VCALENDAR
VERSION:2.0
PRODID:-//Tukios.com/
BEGIN:VEVENT
UID:32393d65-08b9-4e18-803d-a94f16a7c053@www.ohdefuneralhome.com
DTSTAMP:20260424T224155Z
DTSTART:20260429T190000Z
DTEND:20260429T200000Z
SUMMARY:Graveside Service
DESCRIPTION:
URL:https://www.ohdefuneralhome.com/obituaries/lauren-fuchs
LOCATION: 230 S 5th Ave  Templeton IA 51463
GEO:41.9174232;-94.9461288
END:VEVENT
END:VCALENDAR